BEGIN:VCALENDAR
VERSION:2.0
PRODID:-//ChamberMaster//Event Calendar 2.0//EN
METHOD:PUBLISH
X-PUBLISHED-TTL:P3D
REFRESH-INTERVAL:P3D
CALSCALE:GREGORIAN
BEGIN:VEVENT
DTSTART:20160704T143000Z
DTEND:20160704T170000Z
X-MICROSOFT-CDO-ALLDAYEVENT:FALSE
SUMMARY:Picnic In The Park
DESCRIPTION:DeWitt Nite Lions Annual Picnic in the Park. Serving begins at 9:30 am and continue after the parade. Pork Chop meal $6\, Hot Dog $4 includes chips and drinks. Live music with "Pour Susan" performing after the parade.
X-ALT-DESC;FMTTYPE=text/html:DeWitt Nite Lions Annual Picnic in the Park. Serving begins at 9:30 am and continue after the parade. Pork Chop meal $6\, Hot Dog $4 includes chips and drinks. Live music with &quot\;Pour Susan&quot\; performing after the parade.
LOCATION:Lincoln Park
UID:e.1774.1492
SEQUENCE:3
DTSTAMP:20260420T122309Z
URL:https://business.dewittiowa.org/events/details/picnic-in-the-park-07-04-2016-1492
END:VEVENT

END:VCALENDAR
