BEGIN:VCALENDAR
VERSION:2.0
PRODID:-//ChamberMaster//Event Calendar 2.0//EN
METHOD:PUBLISH
X-PUBLISHED-TTL:P3D
REFRESH-INTERVAL:P3D
CALSCALE:GREGORIAN
BEGIN:VEVENT
DTSTART:20151009T220000Z
DTEND:20151010T023000Z
X-MICROSOFT-CDO-ALLDAYEVENT:FALSE
SUMMARY:PINK OUT Football Game
DESCRIPTION:Show some Central DeWitt Saber Pride by coming to the game dressed in PINK (or your favorite attire supporting Breast Cancer Awareness!) Sabers are playing West Delaware.
X-ALT-DESC;FMTTYPE=text/html:Show some Central DeWitt Saber Pride by coming to the game dressed in PINK (or your favorite attire supporting Breast Cancer Awareness!) Sabers are playing West Delaware.
LOCATION:Central DeWitt High School Football Field
UID:e.1774.1061
SEQUENCE:3
DTSTAMP:20260421T013133Z
URL:https://business.dewittiowa.org/events/details/pink-out-football-game-10-09-2015-1061
END:VEVENT

END:VCALENDAR
