BEGIN:VCALENDAR
VERSION:2.0
PRODID:-//ChamberMaster//Event Calendar 2.0//EN
METHOD:PUBLISH
X-PUBLISHED-TTL:P3D
REFRESH-INTERVAL:P3D
CALSCALE:GREGORIAN
BEGIN:VEVENT
DTSTART:20161013T223000Z
DTEND:20161014T023000Z
X-MICROSOFT-CDO-ALLDAYEVENT:FALSE
SUMMARY:Pink Stronger Than You Think Event
DESCRIPTION:Celebration dinner featuring Carolyn Wettstone speaking about her journey with breast cancer.  Carolyn's book recently was out for sales: My Fight: How I Kicked the Cancer Fairies Butt.\n\n\n\nAdvanced tickets can be purchased at Genesis DeWitt Hospital admissions desk.  Limited seating available.
X-ALT-DESC;FMTTYPE=text/html:Celebration dinner featuring Carolyn Wettstone speaking about her journey with breast cancer.&nbsp\; Carolyn&#39\;s book recently was out for sales: My Fight: How I Kicked the Cancer Fairies Butt.<br />\n<br />\nAdvanced tickets can be purchased at Genesis DeWitt Hospital admissions desk.&nbsp\; Limited seating available.
LOCATION:Springbrook Country Club
UID:e.1774.1589
SEQUENCE:3
DTSTAMP:20260420T060950Z
URL:https://business.dewittiowa.org/events/details/pink-stronger-than-you-think-event-1589
END:VEVENT

END:VCALENDAR
