BEGIN:VCALENDAR
VERSION:2.0
PRODID:-//ChamberMaster//Event Calendar 2.0//EN
METHOD:PUBLISH
X-PUBLISHED-TTL:P3D
REFRESH-INTERVAL:P3D
CALSCALE:GREGORIAN
BEGIN:VEVENT
DTSTART:20160725T230000Z
DTEND:20160726T000000Z
X-MICROSOFT-CDO-ALLDAYEVENT:FALSE
SUMMARY:Pokemon GO Trainer Meetup
DESCRIPTION:Join First Central State Bank at the Lincoln Park Pokestop for a FREE one hour lure module and prizes!
X-ALT-DESC;FMTTYPE=text/html:Join First Central State Bank at the Lincoln Park Pokestop for a FREE one hour lure module and prizes!
LOCATION:Lincoln Park
UID:e.1774.1505
SEQUENCE:3
DTSTAMP:20260420T104731Z
URL:https://business.dewittiowa.org/events/details/pokemon-go-trainer-meetup-07-25-2016-1505
END:VEVENT

END:VCALENDAR
