BEGIN:VCALENDAR
VERSION:2.0
PRODID:-//ChamberMaster//Event Calendar 2.0//EN
METHOD:PUBLISH
X-PUBLISHED-TTL:P3D
REFRESH-INTERVAL:P3D
CALSCALE:GREGORIAN
BEGIN:VEVENT
DTSTART:20140817T000000Z
DTEND:20140817T010000Z
X-MICROSOFT-CDO-ALLDAYEVENT:FALSE
SUMMARY:Pool Party for kids & families
DESCRIPTION:It's a pool party at the DeWitt Aquatic Center for AWANA kids\, Upward Football boys\, VBS kids\, their families and friends - - AND anyone interested in learning about the AWANA program at the DeWitt Evangelical Free Church!  PLUS we will have a "Hot Dog Tailgating Party" in the parking lot from 8:00-9:00.
X-ALT-DESC;FMTTYPE=text/html:It&#39\;s a pool party at the DeWitt Aquatic Center for AWANA kids\, Upward Football boys\, VBS kids\, their families and friends - - AND anyone interested in learning about the AWANA program at the DeWitt Evangelical Free Church! &nbsp\;PLUS we will have a &quot\;Hot Dog Tailgating Party&quot\; in the parking lot from 8:00-9:00.
LOCATION:DeWitt Aquatic Center 1000 14th St. DeWitt
UID:e.1774.117
SEQUENCE:3
DTSTAMP:20260421T234448Z
URL:https://business.dewittiowa.org/events/details/pool-party-for-kids-families-08-16-2014-117
END:VEVENT

END:VCALENDAR
