BEGIN:VCALENDAR
VERSION:2.0
PRODID:-//ChamberMaster//Event Calendar 2.0//EN
METHOD:PUBLISH
X-PUBLISHED-TTL:P3D
REFRESH-INTERVAL:P3D
CALSCALE:GREGORIAN
BEGIN:VEVENT
DTSTART;VALUE=DATE:20170519
DTEND;VALUE=DATE:20170520
TRANSP:TRANSPARENT
X-MICROSOFT-CDO-ALLDAYEVENT:TRUE
SUMMARY:Poppy Days
DESCRIPTION:Poppies will be distributed at Barnes and Theisen's on May 19th and 20th by The American Legion Auxiliary Unit #238 of DeWitt. Remember to wear a poppy in remembrance of our veterans.
X-ALT-DESC;FMTTYPE=text/html:<span style="color: rgb(0\, 0\, 0)\; font-family: arial\, sans-serif\; font-size: 12.8px\;">Poppies will be distributed at Barnes and Theisen&#39\;s on&nbsp\;</span><span class="aBn" data-term="goog_1887497860" style="border-bottom: 1px dashed rgb(204\, 204\, 204)\; position: relative\; top: -2px\; z-index: 0\; color: rgb(0\, 0\, 0)\; font-family: arial\, sans-serif\; font-size: 12.8px\;" tabindex="0"><span class="aQJ" style="position: relative\; top: 2px\; z-index: -1\;">May 19th and 20th</span></span><span style="color: rgb(0\, 0\, 0)\; font-family: arial\, sans-serif\; font-size: 12.8px\;">&nbsp\;by The American Legion Auxiliary Unit #238 of DeWitt.&nbsp\;Remember to wear a poppy in remembrance of our veterans.</span>
LOCATION:
UID:e.1774.3025
SEQUENCE:3
DTSTAMP:20260419T201405Z
URL:https://business.dewittiowa.org/events/details/poppy-days-3025
END:VEVENT

END:VCALENDAR
