BEGIN:VCALENDAR
VERSION:2.0
PRODID:-//ChamberMaster//Event Calendar 2.0//EN
METHOD:PUBLISH
X-PUBLISHED-TTL:P3D
REFRESH-INTERVAL:P3D
CALSCALE:GREGORIAN
BEGIN:VEVENT
DTSTART:20150924T220000Z
DTEND:20150925T000000Z
X-MICROSOFT-CDO-ALLDAYEVENT:FALSE
SUMMARY:Pork Chops and Hot Dogs
DESCRIPTION:Pork chops sandwiches and hot dogs will be served in Lincoln Park before and during the Homecoming Parade. Sponsored by Central Education Foundation and DeWitt Nite Lions.
X-ALT-DESC;FMTTYPE=text/html:Pork chops sandwiches and hot dogs will be served in Lincoln Park before and during the Homecoming Parade. Sponsored by Central Education Foundation and DeWitt Nite Lions.
LOCATION:Lincoln Park DeWitt\, IA
UID:e.1774.1030
SEQUENCE:3
DTSTAMP:20260421T043610Z
URL:https://business.dewittiowa.org/events/details/pork-chops-and-hot-dogs-09-24-2015-1030
END:VEVENT

END:VCALENDAR
