BEGIN:VCALENDAR
VERSION:2.0
PRODID:-//ChamberMaster//Event Calendar 2.0//EN
METHOD:PUBLISH
X-PUBLISHED-TTL:P3D
REFRESH-INTERVAL:P3D
CALSCALE:GREGORIAN
BEGIN:VEVENT
DTSTART:20150920T170000Z
DTEND:20150920T220000Z
X-MICROSOFT-CDO-ALLDAYEVENT:FALSE
SUMMARY:Praise In The Park
DESCRIPTION:Live Christian Music from local church groups
X-ALT-DESC;FMTTYPE=text/html:Live Christian Music from local church groups
LOCATION:Lincoln Park Band Shell\, Downtown DeWitt
UID:e.1774.1035
SEQUENCE:3
DTSTAMP:20260421T043409Z
URL:https://business.dewittiowa.org/events/details/praise-in-the-park-09-20-2015-1035
END:VEVENT

END:VCALENDAR
