BEGIN:VCALENDAR
VERSION:2.0
PRODID:-//ChamberMaster//Event Calendar 2.0//EN
METHOD:PUBLISH
X-PUBLISHED-TTL:P3D
REFRESH-INTERVAL:P3D
CALSCALE:GREGORIAN
BEGIN:VEVENT
DTSTART:20170924T180000Z
DTEND:20170924T210000Z
X-MICROSOFT-CDO-ALLDAYEVENT:FALSE
SUMMARY:Praise In The Park
DESCRIPTION:Live music from local Christian artists. 1 to 4 PM at Lincoln Park in downtown DeWitt. Bring your lawn chairs\, everyone is welcome! Free hot dogs.
X-ALT-DESC;FMTTYPE=text/html:Live music from local Christian artists. 1 to 4 PM at Lincoln Park in downtown DeWitt. Bring your lawn chairs\, everyone is welcome! Free hot dogs.
LOCATION:Lincoln Park\, downtown DeWitt
UID:e.1774.5290
SEQUENCE:3
DTSTAMP:20260419T121008Z
URL:https://business.dewittiowa.org/events/details/praise-in-the-park-09-24-2017-5290
END:VEVENT

END:VCALENDAR
