BEGIN:VCALENDAR
VERSION:2.0
PRODID:-//ChamberMaster//Event Calendar 2.0//EN
METHOD:PUBLISH
X-PUBLISHED-TTL:P3D
REFRESH-INTERVAL:P3D
CALSCALE:GREGORIAN
BEGIN:VEVENT
DTSTART:20160911T170000Z
DTEND:20160911T220000Z
X-MICROSOFT-CDO-ALLDAYEVENT:FALSE
SUMMARY:Praise in the Park
DESCRIPTION:Live Christian music from local praise bands\, groups\, and individuals. Refreshments served. All free.
X-ALT-DESC;FMTTYPE=text/html:Live Christian music from local praise bands\, groups\, and individuals. Refreshments served. All free.
LOCATION:Lincoln Park\, Downtown DeWitt
UID:e.1774.1538
SEQUENCE:3
DTSTAMP:20260420T073759Z
URL:https://business.dewittiowa.org/events/details/praise-in-the-park-1538
END:VEVENT

END:VCALENDAR
