BEGIN:VCALENDAR
VERSION:2.0
PRODID:-//ChamberMaster//Event Calendar 2.0//EN
METHOD:PUBLISH
X-PUBLISHED-TTL:P3D
REFRESH-INTERVAL:P3D
CALSCALE:GREGORIAN
BEGIN:VEVENT
DTSTART:20170308T150000Z
DTEND:20170308T160000Z
X-MICROSOFT-CDO-ALLDAYEVENT:FALSE
SUMMARY:Preschool Story Time
DESCRIPTION:Stories\, activities\, crafts\, and snacks for 3\, 4\, & 5 year olds.
X-ALT-DESC;FMTTYPE=text/html:Stories\, activities\, crafts\, and snacks for 3\, 4\, &amp\; 5 year olds.
LOCATION:The Kids' Corner at the DeWitt Library.
UID:e.1774.1877
SEQUENCE:3
DTSTAMP:20260419T235125Z
URL:https://business.dewittiowa.org/events/details/preschool-story-time-03-08-2017-1877
END:VEVENT

END:VCALENDAR
