BEGIN:VCALENDAR
VERSION:2.0
PRODID:-//ChamberMaster//Event Calendar 2.0//EN
METHOD:PUBLISH
X-PUBLISHED-TTL:P3D
REFRESH-INTERVAL:P3D
CALSCALE:GREGORIAN
BEGIN:VEVENT
DTSTART:20170315T140000Z
DTEND:20170315T150000Z
X-MICROSOFT-CDO-ALLDAYEVENT:FALSE
SUMMARY:Preschool Story Time
DESCRIPTION:Stories\, activities\, crafts\, and snacks for 3\, 4 & 5 year olds!
X-ALT-DESC;FMTTYPE=text/html:Stories\, activities\, crafts\, and snacks for 3\, 4 &amp\; 5 year olds!
LOCATION:In the Kids' Corner at the DeWitt Library
UID:e.1774.1879
SEQUENCE:3
DTSTAMP:20260419T221229Z
URL:https://business.dewittiowa.org/events/details/preschool-story-time-03-15-2017-1879
END:VEVENT

END:VCALENDAR
