BEGIN:VCALENDAR
VERSION:2.0
PRODID:-//ChamberMaster//Event Calendar 2.0//EN
METHOD:PUBLISH
X-PUBLISHED-TTL:P3D
REFRESH-INTERVAL:P3D
CALSCALE:GREGORIAN
BEGIN:VEVENT
DTSTART:20170614T140000Z
DTEND:20170614T150000Z
X-MICROSOFT-CDO-ALLDAYEVENT:FALSE
SUMMARY:Preschool Story Time
DESCRIPTION:Stories\, games\, a craft\, and snacks
X-ALT-DESC;FMTTYPE=text/html:Stories\, games\, a craft\, and snacks
LOCATION:Frances Banta Waggoner Community Library Kids' Corner 505 10th St. DeWitt\, IA
UID:e.1774.3122
SEQUENCE:3
DTSTAMP:20260419T165612Z
URL:https://business.dewittiowa.org/events/details/preschool-story-time-06-14-2017-3122
END:VEVENT

END:VCALENDAR
