BEGIN:VCALENDAR
VERSION:2.0
PRODID:-//ChamberMaster//Event Calendar 2.0//EN
METHOD:PUBLISH
X-PUBLISHED-TTL:P3D
REFRESH-INTERVAL:P3D
CALSCALE:GREGORIAN
BEGIN:VEVENT
DTSTART:20170906T140000Z
DTEND:20170906T150000Z
X-MICROSOFT-CDO-ALLDAYEVENT:FALSE
SUMMARY:Preschool Story Time
DESCRIPTION:For 3\, 4\, and 5 year olds . . . books and fun learning activities\, snacks and crafts
X-ALT-DESC;FMTTYPE=text/html:For 3\, 4\, and 5 year olds . . . books and fun learning activities\, snacks and crafts
LOCATION:In the Kids Corner at the DeWitt Library
UID:e.1774.4247
SEQUENCE:3
DTSTAMP:20260419T134009Z
URL:https://business.dewittiowa.org/events/details/preschool-story-time-09-06-2017-4247
END:VEVENT

END:VCALENDAR
