BEGIN:VCALENDAR
VERSION:2.0
PRODID:-//ChamberMaster//Event Calendar 2.0//EN
METHOD:PUBLISH
X-PUBLISHED-TTL:P3D
REFRESH-INTERVAL:P3D
CALSCALE:GREGORIAN
BEGIN:VEVENT
DTSTART:20170913T140000Z
DTEND:20170914T024500Z
X-MICROSOFT-CDO-ALLDAYEVENT:FALSE
SUMMARY:Preschool Story Time
DESCRIPTION:For 3\, 4\, & 5 year olds - - stories\, activities\, crafts\, and snacks!
X-ALT-DESC;FMTTYPE=text/html:For 3\, 4\, &amp\; 5 year olds - - stories\, activities\, crafts\, and snacks!
LOCATION:In the Kids' Corner at the DeWitt Library.
UID:e.1774.4253
SEQUENCE:3
DTSTAMP:20260419T134059Z
URL:https://business.dewittiowa.org/events/details/preschool-story-time-09-13-2017-4253
END:VEVENT

END:VCALENDAR
