BEGIN:VCALENDAR
VERSION:2.0
PRODID:-//ChamberMaster//Event Calendar 2.0//EN
METHOD:PUBLISH
X-PUBLISHED-TTL:P3D
REFRESH-INTERVAL:P3D
CALSCALE:GREGORIAN
BEGIN:VEVENT
DTSTART:20140716T140000Z
DTEND:20140716T143000Z
X-MICROSOFT-CDO-ALLDAYEVENT:FALSE
SUMMARY:Preschool Story Time and Mother Goose Time
DESCRIPTION:Preschool Story Time for children over 3. Mother Goose Time for children under 3 accompanied by an adult.
X-ALT-DESC;FMTTYPE=text/html:Preschool Story Time for children over 3. Mother Goose Time for children under 3 accompanied by an adult.
LOCATION:Frances Banta Waggoner Library 505 10th St. DeWitt\, IA
UID:e.1774.104
SEQUENCE:3
DTSTAMP:20260422T011335Z
URL:https://business.dewittiowa.org/events/details/preschool-story-time-and-mother-goose-time-07-16-2014-104
END:VEVENT

END:VCALENDAR
