BEGIN:VCALENDAR
VERSION:2.0
PRODID:-//ChamberMaster//Event Calendar 2.0//EN
METHOD:PUBLISH
X-PUBLISHED-TTL:P3D
REFRESH-INTERVAL:P3D
CALSCALE:GREGORIAN
BEGIN:VEVENT
DTSTART:20140723T140000Z
DTEND:20140724T023000Z
X-MICROSOFT-CDO-ALLDAYEVENT:FALSE
SUMMARY:Preschool Story Time and Mother Goose Time
DESCRIPTION:Stories\, songs\, fingerplays and other activities for early literacy.
X-ALT-DESC;FMTTYPE=text/html:Stories\, songs\, fingerplays and other activities for early literacy.
LOCATION:Frances Banta Waggoner Library 505 10th St. DeWitt\, IA
UID:e.1774.108
SEQUENCE:3
DTSTAMP:20260422T011724Z
URL:https://business.dewittiowa.org/events/details/preschool-story-time-and-mother-goose-time-07-23-2014-108
END:VEVENT

END:VCALENDAR
