BEGIN:VCALENDAR
VERSION:2.0
PRODID:-//ChamberMaster//Event Calendar 2.0//EN
METHOD:PUBLISH
X-PUBLISHED-TTL:P3D
REFRESH-INTERVAL:P3D
CALSCALE:GREGORIAN
BEGIN:VEVENT
DTSTART:20170608T233000Z
DTEND:20170609T013000Z
X-MICROSOFT-CDO-ALLDAYEVENT:FALSE
SUMMARY:"Prohibition in Eastern Iowa"
DESCRIPTION:Linda McCann will present a program about Prohibition in Eastern Iowa during the 1920's and will share specific information relating to DeWitt.
X-ALT-DESC;FMTTYPE=text/html:Linda McCann will present a program about Prohibition in Eastern Iowa during the 1920&#39\;s and will share specific information relating to DeWitt.
LOCATION:Frances Banta Waggoner Community Library In the meeting room 505 10th St. DeWitt\, IA
UID:e.1774.3106
SEQUENCE:3
DTSTAMP:20260419T165351Z
URL:https://business.dewittiowa.org/events/details/prohibition-in-eastern-iowa-3106
END:VEVENT

END:VCALENDAR
