BEGIN:VCALENDAR
VERSION:2.0
PRODID:-//ChamberMaster//Event Calendar 2.0//EN
METHOD:PUBLISH
X-PUBLISHED-TTL:P3D
REFRESH-INTERVAL:P3D
CALSCALE:GREGORIAN
BEGIN:VEVENT
DTSTART:20170422T220000Z
DTEND:20170422T230000Z
X-MICROSOFT-CDO-ALLDAYEVENT:FALSE
SUMMARY:Prom/Grand March
DESCRIPTION:Prom Grand March! Held in Central DeWitt's Performing Arts Center & High School Atrium. 5:00-6:00 pm April 22nd. $1 admission\, preschool age & younger free
X-ALT-DESC;FMTTYPE=text/html:Prom Grand March! Held in Central DeWitt&#39\;s Performing Arts Center &amp\; High School Atrium. 5:00-6:00 pm April 22nd. $1 admission\, preschool age &amp\; younger free
LOCATION:Central DeWitt's Performing Arts Center & High School Atrium 519 E. 11th Street DeWitt\, IA 52742
UID:e.1774.1894
SEQUENCE:3
DTSTAMP:20260419T201527Z
URL:https://business.dewittiowa.org/events/details/prom-grand-march-1894
END:VEVENT

END:VCALENDAR
