BEGIN:VCALENDAR
VERSION:2.0
PRODID:-//ChamberMaster//Event Calendar 2.0//EN
METHOD:PUBLISH
X-PUBLISHED-TTL:P3D
REFRESH-INTERVAL:P3D
CALSCALE:GREGORIAN
BEGIN:VEVENT
DTSTART:20260518T183000Z
DTEND:20260518T193000Z
X-MICROSOFT-CDO-ALLDAYEVENT:FALSE
SUMMARY:Prompt: Chatbots\, GenAI\, and How We Use Them
DESCRIPTION:Part 2 of DCL AI Series. Cover common chatbots/GenAI (ChatGPT\, Gemini\, and Claude)\, and some examples of learning to prompt your AI tool for the best results! See Andrew's previous presentation on our YouTube channel and website.
X-ALT-DESC;FMTTYPE=text/html:Part 2 of DCL AI Series. Cover common chatbots/GenAI (ChatGPT\, Gemini\, and Claude)\, and some examples of learning to prompt your AI tool for the best results! See Andrew&#39\;s previous presentation on our YouTube channel and website.
LOCATION:DeWitt Community Library 917 5th Ave
UID:e.1774.44806
SEQUENCE:3
DTSTAMP:20260424T182507Z
URL:https://business.dewittiowa.org/events/details/prompt-chatbots-genai-and-how-we-use-them-44806
END:VEVENT

END:VCALENDAR
