BEGIN:VCALENDAR
VERSION:2.0
PRODID:-//ChamberMaster//Event Calendar 2.0//EN
METHOD:PUBLISH
X-PUBLISHED-TTL:P3D
REFRESH-INTERVAL:P3D
CALSCALE:GREGORIAN
BEGIN:VEVENT
DTSTART:20150327T230000Z
DTEND:20150328T000000Z
X-MICROSOFT-CDO-ALLDAYEVENT:FALSE
SUMMARY:Prospective Members Meeting - Springbrook Country Club
DESCRIPTION:Membership information for prospective or former members will be shared.
X-ALT-DESC;FMTTYPE=text/html:Membership information for prospective or former members will be shared.
LOCATION:Springbrook County Club
UID:e.1774.335
SEQUENCE:3
DTSTAMP:20260421T124720Z
URL:https://business.dewittiowa.org/events/details/prospective-members-meeting-springbrook-country-club-03-27-2015-335
END:VEVENT

END:VCALENDAR
