BEGIN:VCALENDAR
VERSION:2.0
PRODID:-//ChamberMaster//Event Calendar 2.0//EN
METHOD:PUBLISH
X-PUBLISHED-TTL:P3D
REFRESH-INTERVAL:P3D
CALSCALE:GREGORIAN
BEGIN:VEVENT
DTSTART:20170401T223000Z
DTEND:20170401T230000Z
X-MICROSOFT-CDO-ALLDAYEVENT:FALSE
SUMMARY:Prospective Membership Meeting & GRAND OPENING
DESCRIPTION:Grand Opening - EVERYONE WELCOME\n\nApril 1st - 5:30PM-11:30PM\n\n\n\nProspective Membership Meeting - Interested in Becoming a Member?  Join us 5:30PM-6PM in the Downstairs Bar for a brief information meeting.  Those attending the Prospective Member Meeting will receive complimentary Hors d'oeuvres along with a FREE beverage!  After the meeting head upstairs for Life Music and an Italian Buffet!\n\n\n\nInterested in Music and great food?  \n\nItalian Buffet 5:30PM | $15\n\nLive Entertainment by Jef Spradley 7:00PM\n\nHandle Takeover - Lionstone Brewing\n\n\n\nHope to see you all there!
X-ALT-DESC;FMTTYPE=text/html:<p>Grand Opening - EVERYONE WELCOME<br />\nApril 1st - 5:30PM-11:30PM<br />\n<br />\nProspective Membership Meeting - Interested in Becoming a Member? &nbsp\;Join us 5:30PM-6PM in the Downstairs Bar for a brief information meeting. &nbsp\;Those attending the Prospective Member Meeting will receive complimentary Hors d&#39\;oeuvres along with a FREE beverage! &nbsp\;After the meeting head upstairs for Life Music and an Italian Buffet!<br />\n<br />\nInterested in Music and great food? &nbsp\;<br />\nItalian Buffet 5:30PM&nbsp\;| $15<br />\nLive Entertainment by Jef Spradley 7:00PM<br />\nHandle Takeover - Lionstone Brewing<br />\n<br />\nHope to see you all there!</p>\n
LOCATION:Brook's Bisto & Springbrook Country Club 2122 17th Ave.\, DeWitt\, IA
UID:e.1774.1939
SEQUENCE:3
DTSTAMP:20260419T220333Z
URL:https://business.dewittiowa.org/events/details/prospective-membership-meeting-grand-opening-1939
END:VEVENT

END:VCALENDAR
