BEGIN:VCALENDAR
VERSION:2.0
PRODID:-//ChamberMaster//Event Calendar 2.0//EN
METHOD:PUBLISH
X-PUBLISHED-TTL:P3D
REFRESH-INTERVAL:P3D
CALSCALE:GREGORIAN
BEGIN:VEVENT
DTSTART:20160830T233000Z
DTEND:20160831T003000Z
X-MICROSOFT-CDO-ALLDAYEVENT:FALSE
SUMMARY:Public meeting for planning/design of new Law Center
DESCRIPTION:Clinton County Justice Coordinating Commission (CCJCC) and the Law Center Project Team announce public design planning meetings for the Clinton County Jail/Sheriff's Office/911 Emergency Communications Center & Emergency Management Agency/Emergency Operations Center. Dates for public meetings for planning and design of new Law Center: Public meeting will be Monday\, August 29th at 5:00 P.M. - Administration Building\, located at 1900 North Third Street in Clinton\, Iowa. Meeting will be held in the Board of Supervisors meeting room. A second public meeting will take place on Tuesday\, August 30th at 6:30 P.M. This will be at the DeWitt Satellite Office\, located at 226 11th Street\, in DeWitt\, Iowa.
X-ALT-DESC;FMTTYPE=text/html:Clinton County Justice Coordinating Commission (CCJCC) and the Law Center Project Team announce public design planning meetings for the Clinton County Jail/Sheriff&#39\;s Office/911 Emergency Communications Center &amp\; Emergency Management Agency/Emergency Operations Center. Dates for public meetings for planning and design of new Law Center: Public meeting will be Monday\, August 29th at 5:00 P.M. - Administration Building\, located at 1900 North Third Street in Clinton\, Iowa. Meeting will be held in the Board of Supervisors meeting room. A second public meeting will take place on Tuesday\, August 30th at 6:30 P.M. This will be at the DeWitt Satellite Office\, located at 226 11th Street\, in DeWitt\, Iowa.
LOCATION:Clinton County Satellite Office 226 11th Street DeWitt\, IA
UID:e.1774.1527
SEQUENCE:3
DTSTAMP:20260420T093423Z
URL:https://business.dewittiowa.org/events/details/public-meeting-for-planning-design-of-new-law-center-08-30-2016-1527
END:VEVENT

END:VCALENDAR
