BEGIN:VCALENDAR
VERSION:2.0
PRODID:-//ChamberMaster//Event Calendar 2.0//EN
METHOD:PUBLISH
X-PUBLISHED-TTL:P3D
REFRESH-INTERVAL:P3D
CALSCALE:GREGORIAN
BEGIN:VEVENT
DTSTART:20150301T000000Z
DTEND:20150301T050000Z
X-MICROSOFT-CDO-ALLDAYEVENT:FALSE
SUMMARY:Putt Putt Golf Classic
DESCRIPTION:From Cover to Cover and DeWitt Junior Women present Celebrity Putt Putt Golf Classic supporting our mutual missions of giving back to the community. Join us at "Buzzy's Links" for the newest challenging 18 hole miniature golf course in Eastern Iowa (1\,500 feet) (cash bar available). Get your team of four together and join us for a fun evening!
X-ALT-DESC;FMTTYPE=text/html:From Cover to Cover and DeWitt Junior Women present Celebrity Putt Putt Golf Classic supporting our mutual missions of giving back to the community. Join us at &quot\;Buzzy&#39\;s Links&quot\; for the newest challenging 18 hole miniature golf course in Eastern Iowa (1\,500 feet) (cash bar available). Get your team of four together and join us for a fun evening!
LOCATION:Buzzy's Welton
UID:e.1774.319
SEQUENCE:3
DTSTAMP:20260421T142154Z
URL:https://business.dewittiowa.org/events/details/putt-putt-golf-classic-02-28-2015-319
END:VEVENT

END:VCALENDAR
