BEGIN:VCALENDAR
VERSION:2.0
PRODID:-//ChamberMaster//Event Calendar 2.0//EN
METHOD:PUBLISH
X-PUBLISHED-TTL:P3D
REFRESH-INTERVAL:P3D
CALSCALE:GREGORIAN
BEGIN:VEVENT
DTSTART:20170304T230000Z
DTEND:20170305T030000Z
X-MICROSOFT-CDO-ALLDAYEVENT:FALSE
SUMMARY:Putt Putt Golf Classic
DESCRIPTION:Putt Putt Golf Classic at Buzzy's in Welton\n\nSupporting the mission of the Community Foundation:  "Giving back feels good!"
X-ALT-DESC;FMTTYPE=text/html:Putt Putt Golf Classic at Buzzy's&nbsp\;in Welton<br>\nSupporting the mission of the Community&nbsp\;Foundation: &nbsp\;"Giving back feels good!"
LOCATION:Buzzy's Welton
UID:e.1774.1846
SEQUENCE:3
DTSTAMP:20260419T220523Z
URL:https://business.dewittiowa.org/events/details/putt-putt-golf-classic-1846
END:VEVENT

END:VCALENDAR
