BEGIN:VCALENDAR
VERSION:2.0
PRODID:-//ChamberMaster//Event Calendar 2.0//EN
METHOD:PUBLISH
X-PUBLISHED-TTL:P3D
REFRESH-INTERVAL:P3D
CALSCALE:GREGORIAN
BEGIN:VEVENT
DTSTART:20170325T180000Z
DTEND:20170325T210000Z
X-MICROSOFT-CDO-ALLDAYEVENT:FALSE
SUMMARY:Ready for the Runway Fashion Worshop
DESCRIPTION:Fourth through twelfth grade students are invited to Clinton County Extension's Ready for the Runway!\n\n  Melissa East\, Fabric Development Manager for Jockey\, as our guest speaker. She will share her career\, world travels\, and experience in the fashion industry. \n\n  Gain confidence as you gain guidance on the catwalk.\n\n  Hear from judges on what they like to see at the 4-H Fashion Judging Day.\n\n  Fashion Upcycling-Brianne will have an awesome upcycling challenge with t-shirts you won't want to miss.
X-ALT-DESC;FMTTYPE=text/html:<span style="color:#806000"><span style="font-family:arial rounded mt bold"><span style="font-size:16.0pt">Fourth through twelfth grade students are invited to Clinton County Extension&#39\;s Ready for the Runway!</span></span></span><br />\n<span style="color:#806000"><span style="font-size:15.0pt"><span style="font-family:symbol">&uml\;</span></span></span>&nbsp\;<span style="color:#806000"><span style="font-family:arial rounded mt bold"><span style="font-size:16.0pt">Melissa East\, Fabric Development Manager for Jockey\, as our guest speaker. She will share her career\, world travels\, and experience in the fashion industry. </span></span></span><br />\n<span style="color:#806000"><span style="font-size:15.0pt"><span style="font-family:symbol">&uml\;</span></span></span>&nbsp\;<span style="color:#806000"><span style="font-family:arial rounded mt bold"><span style="font-size:16.0pt">Gain confidence as you gain guidance on the catwalk.</span></span></span><br />\n<span style="color:#806000"><span style="font-size:15.0pt"><span style="font-family:symbol">&uml\;</span></span></span>&nbsp\;<span style="color:#806000"><span style="font-family:arial rounded mt bold"><span style="font-size:16.0pt">Hear from judges on what they like to see at the 4-H Fashion Judging Day.</span></span></span><br />\n<span style="color:#806000"><span style="font-size:15.0pt"><span style="font-family:symbol">&uml\;</span></span></span>&nbsp\;<span style="color:#806000"><span style="font-family:arial rounded mt bold"><span style="font-size:16.0pt">Fashion Upcycling-Brianne will have an awesome upcycling challenge with t-shirts you won&rsquo\;t want to miss. </span></span></span><br />\n&nbsp\;<br />\n&nbsp\;<br />\n&nbsp\;
LOCATION:Clinton County Extension Office 400 E 11th St. DeWitt\, IA
UID:e.1774.1916
SEQUENCE:3
DTSTAMP:20260419T235559Z
URL:https://business.dewittiowa.org/events/details/ready-for-the-runway-fashion-worshop-1916
END:VEVENT

END:VCALENDAR
