BEGIN:VCALENDAR
VERSION:2.0
PRODID:-//ChamberMaster//Event Calendar 2.0//EN
METHOD:PUBLISH
X-PUBLISHED-TTL:P3D
REFRESH-INTERVAL:P3D
CALSCALE:GREGORIAN
BEGIN:VEVENT
DTSTART:20160212T230000Z
DTEND:20160213T010000Z
X-MICROSOFT-CDO-ALLDAYEVENT:FALSE
SUMMARY:Relay for Life Kick-off
DESCRIPTION:Great opportunity to come see what Relay for Life is all about. There will be information on how to register a team\, volunteer for the event or for any question you may have. Bowling for $2.50 per game (no show rental) and snacks. Come watch the Clinton County Mayoral Bowling Challenge at 6:30
X-ALT-DESC;FMTTYPE=text/html:Great opportunity to come see what Relay for Life is all about. There will be information on how to register a team\, volunteer for the event or for any question you may have. Bowling for $2.50 per game (no show rental) and snacks. Come watch the Clinton County Mayoral Bowling Challenge at 6:30
LOCATION:DeWitt Lanes\, 309 11th Street\, DeWitt
UID:e.1774.1216
SEQUENCE:3
DTSTAMP:20260420T183513Z
URL:https://business.dewittiowa.org/events/details/relay-for-life-kick-off-02-12-2016-1216
END:VEVENT

END:VCALENDAR
