BEGIN:VCALENDAR
VERSION:2.0
PRODID:-//ChamberMaster//Event Calendar 2.0//EN
METHOD:PUBLISH
X-PUBLISHED-TTL:P3D
REFRESH-INTERVAL:P3D
CALSCALE:GREGORIAN
BEGIN:VEVENT
DTSTART:20130516T220000Z
DTEND:20130517T000000Z
X-MICROSOFT-CDO-ALLDAYEVENT:FALSE
SUMMARY:Revive After Five
DESCRIPTION:Revive After Five: Held on the third Thursday of every month\, members can meet\, exchange business cards\, and network in a relaxed and informal setting at a member business locations.
X-ALT-DESC;FMTTYPE=text/html:<div style="color: gray\;">\n	<span style="font-size: medium\;"><span style="font-family: calibri\;">Revive After Five: Held on the third Thursday of every month\, members can meet\, exchange business cards\, and network in a relaxed and informal setting at a member business locations. </span></span><br />\n	&nbsp\;</div>\n
LOCATION:
UID:e.1774.1
SEQUENCE:3
DTSTAMP:20260423T055410Z
URL:https://business.dewittiowa.org/events/details/revive-after-five-05-16-2013-1
END:VEVENT

END:VCALENDAR
