BEGIN:VCALENDAR
VERSION:2.0
PRODID:-//ChamberMaster//Event Calendar 2.0//EN
METHOD:PUBLISH
X-PUBLISHED-TTL:P3D
REFRESH-INTERVAL:P3D
CALSCALE:GREGORIAN
BEGIN:VEVENT
DTSTART:20140515T220000Z
DTEND:20140516T000000Z
X-MICROSOFT-CDO-ALLDAYEVENT:FALSE
SUMMARY:Revive After Five-Central Community Historical Society
DESCRIPTION:Held on the third Thursday of every month. Members can meet\, exchange business cards\, and network in a relaxed and informal setting at a member business location.
X-ALT-DESC;FMTTYPE=text/html:<span style="color: rgb(128\, 128\, 128)\; line-height: 25px\; font-family: calibri\; font-size: medium\;">Held on the third Thursday of every month. Members can meet\, exchange business cards\, and network in a relaxed and informal setting at a member business location.&nbsp\;</span>
LOCATION:Central Community Historical Society 628 6th Ave. DeWitt\, IA 52742
UID:e.1774.7
SEQUENCE:3
DTSTAMP:20260422T042344Z
URL:https://business.dewittiowa.org/events/details/revive-after-five-central-community-historical-society-05-15-2014-7
END:VEVENT

END:VCALENDAR
