BEGIN:VCALENDAR
VERSION:2.0
PRODID:-//ChamberMaster//Event Calendar 2.0//EN
METHOD:PUBLISH
X-PUBLISHED-TTL:P3D
REFRESH-INTERVAL:P3D
CALSCALE:GREGORIAN
BEGIN:VEVENT
DTSTART:20160218T230000Z
DTEND:20160219T010000Z
X-MICROSOFT-CDO-ALLDAYEVENT:FALSE
SUMMARY:Revive After Five-Clinton County Farm Bureau
DESCRIPTION:Held on the third Thursday of every month. Members can meet\, exchange business cards\, and network in a relaxed and informal setting at a member business location.  Have any agriculture related questions? Bring those along too for the Farm Bureau staff.  Come for the LOCAL BACON and stay for the BEER!
X-ALT-DESC;FMTTYPE=text/html:<span style="font-size:14px\;"><span style="line-height: 25px\; font-family: calibri\;">Held on the third Thursday of every month. Members can meet\, exchange business cards\, and network in a relaxed and informal setting at a member business location. &nbsp\;Have any&nbsp\;</span></span><span style="background-color: rgb(255\, 255\, 255)\;"><font face="Calibri\, sans-serif"><span style="font-size: 14.6667px\;"><span style="font-size:14px\;">agriculture related questions? Bring those along too for the Farm Bureau staff.</span>&nbsp\; Come for the LOCAL BACON and stay for the BEER!</span></font></span>
LOCATION:Clinton County Farm Bureau 514 8th St. DeWitt\, IA 52742
UID:e.1774.1102
SEQUENCE:3
DTSTAMP:20260420T183513Z
URL:https://business.dewittiowa.org/events/details/revive-after-five-clinton-county-farm-bureau-02-18-2016-1102
END:VEVENT

END:VCALENDAR
