BEGIN:VCALENDAR
VERSION:2.0
PRODID:-//ChamberMaster//Event Calendar 2.0//EN
METHOD:PUBLISH
X-PUBLISHED-TTL:P3D
REFRESH-INTERVAL:P3D
CALSCALE:GREGORIAN
BEGIN:VEVENT
DTSTART:20150115T230000Z
DTEND:20150116T010000Z
X-MICROSOFT-CDO-ALLDAYEVENT:FALSE
SUMMARY:Revive After Five-DeWitt Eyecare Clinic P.C.
DESCRIPTION:Held on the third Thursday of every month. Members can meet\, exchange business cards\, and network in a relaxed and informal setting at a member business location.
X-ALT-DESC;FMTTYPE=text/html:<span style="color: rgb(128\, 128\, 128)\; line-height: 25px\; font-family: calibri\; font-size: medium\;">Held on the third Thursday of every month. Members can meet\, exchange business cards\, and network in a relaxed and informal setting at a member business location.&nbsp\;</span>
LOCATION:DeWitt Eyecare Clinic P.C. 1107 9th Avenue DeWitt\, IA 52742
UID:e.1774.247
SEQUENCE:3
DTSTAMP:20260421T154439Z
URL:https://business.dewittiowa.org/events/details/revive-after-five-dewitt-eyecare-clinic-p-c-01-15-2015-247
END:VEVENT

END:VCALENDAR
