BEGIN:VCALENDAR
VERSION:2.0
PRODID:-//ChamberMaster//Event Calendar 2.0//EN
METHOD:PUBLISH
X-PUBLISHED-TTL:P3D
REFRESH-INTERVAL:P3D
CALSCALE:GREGORIAN
BEGIN:VEVENT
DTSTART:20161020T220000Z
DTEND:20161021T000000Z
X-MICROSOFT-CDO-ALLDAYEVENT:FALSE
SUMMARY:Revive After Five-Family Resources\, Inc.
DESCRIPTION:Held on the third Thursday of every month. Members can meet\, exchange business cards\, and network in a relaxed and informal setting at a member business location. Join us at the DeWitt Community Center where Family Resources Inc. will be hosting the Oct. Revive. Enjoy food\, beverages and a few basket prize giveaways as well!
X-ALT-DESC;FMTTYPE=text/html:<span style="color: rgb(128\, 128\, 128)\; line-height: 25px\; font-family: calibri\; font-size: medium\;">Held on the third Thursday of every month. Members can meet\, exchange business cards\, and network in a relaxed and informal setting at a member business location. Join us at the DeWitt Community Center where Family Resources Inc. will be hosting the Oct. Revive. Enjoy food\, beverages and a few basket prize giveaways as&nbsp\;well!&nbsp\;&nbsp\;</span>
LOCATION:DeWitt Community Center 512 10th St. DeWitt IA
UID:e.1774.1107
SEQUENCE:3
DTSTAMP:20260420T060950Z
URL:https://business.dewittiowa.org/events/details/revive-after-five-family-resources-inc-1107
END:VEVENT

END:VCALENDAR
