BEGIN:VCALENDAR
VERSION:2.0
PRODID:-//ChamberMaster//Event Calendar 2.0//EN
METHOD:PUBLISH
X-PUBLISHED-TTL:P3D
REFRESH-INTERVAL:P3D
CALSCALE:GREGORIAN
BEGIN:VEVENT
DTSTART:20170420T220000Z
DTEND:20170421T000000Z
X-MICROSOFT-CDO-ALLDAYEVENT:FALSE
SUMMARY:Revive After Five - Floratine Central Turf Products & Arborite
DESCRIPTION:Held on the third Thursday of every month. Members can meet\, exchange business cards\, and network in a relaxed and informal setting at a member business location.
X-ALT-DESC;FMTTYPE=text/html:<span style="color: rgb(128\, 128\, 128)\; line-height: 25px\; font-family: calibri\; font-size: medium\;">Held on the third Thursday of every month. Members can meet\, exchange business cards\, and network in a relaxed and informal setting at a member business location.&nbsp\;</span>
LOCATION:Springbrook Country Club & Brook's Bistro 2122 17th Ave. DeWitt\, IA 52742
UID:e.1774.1633
SEQUENCE:3
DTSTAMP:20260419T202246Z
URL:https://business.dewittiowa.org/events/details/revive-after-five-floratine-central-turf-products-arborite-1633
END:VEVENT

END:VCALENDAR
