BEGIN:VCALENDAR
VERSION:2.0
PRODID:-//ChamberMaster//Event Calendar 2.0//EN
METHOD:PUBLISH
X-PUBLISHED-TTL:P3D
REFRESH-INTERVAL:P3D
CALSCALE:GREGORIAN
BEGIN:VEVENT
DTSTART:20140918T220000Z
DTEND:20140919T000000Z
X-MICROSOFT-CDO-ALLDAYEVENT:FALSE
SUMMARY:Revive After Five-Flowers on the Side
DESCRIPTION:Held on the third Thursday of every month. Members can meet\, exchange business cards\, and network in a relaxed and informal setting at a member business location.
X-ALT-DESC;FMTTYPE=text/html:<span style="color: rgb(0\, 0\, 0)\;"><span style="line-height: 25px\; font-family: calibri\; font-size: medium\;">Held on the third Thursday of every month. Members can meet\, exchange business cards\, and network in a relaxed and informal setting at a member business location.&nbsp\;</span></span>
LOCATION:Flowers on the Side 816 6th Avenue DeWitt\, IA
UID:e.1774.8
SEQUENCE:3
DTSTAMP:20260421T222517Z
URL:https://business.dewittiowa.org/events/details/revive-after-five-flowers-on-the-side-09-18-2014-8
END:VEVENT

END:VCALENDAR
