BEGIN:VCALENDAR
VERSION:2.0
PRODID:-//ChamberMaster//Event Calendar 2.0//EN
METHOD:PUBLISH
X-PUBLISHED-TTL:P3D
REFRESH-INTERVAL:P3D
CALSCALE:GREGORIAN
BEGIN:VEVENT
DTSTART:20160317T220000Z
DTEND:20160318T000000Z
X-MICROSOFT-CDO-ALLDAYEVENT:FALSE
SUMMARY:Revive After Five-Holst Construction & Rental
DESCRIPTION:Join us for a St. Patrick's Day themed Revive After Five.\n\nRevives are held on the third Thursday of every month. Members can meet\, exchange business cards\, and network in a relaxed and informal setting at a member business location.
X-ALT-DESC;FMTTYPE=text/html:<span style="background-color: rgb(255\, 255\, 255)\; line-height: 25px\;"><font face="calibri" size="3">Join us for a&nbsp\;</font></span><span style="font-family: arial\, sans-serif\; font-size: 12.8px\; background-color: rgb(255\, 255\, 255)\;">St.&nbsp\;Patrick&#39\;s Day themed Revive After </span><span style="font-family: arial\, sans-serif\; font-size: 12.8px\; background-color: rgb(255\, 255\, 255)\;">Five.<br />\nRevives are h</span><span style="line-height: 25px\; font-family: calibri\; font-size: medium\;">eld</span><span style="line-height: 25px\; font-family: calibri\; font-size: medium\;"> on the third Thursday of every month. Members can meet\, exchange business cards\, and network in a relaxed and informal setting at a member business location.&nbsp\;</span>
LOCATION:Holst Construction & Rental 208 11th St. DeWitt\, IA 52742
UID:e.1774.1103
SEQUENCE:3
DTSTAMP:20260420T170959Z
URL:https://business.dewittiowa.org/events/details/revive-after-five-holst-construction-rental-03-17-2016-1103
END:VEVENT

END:VCALENDAR
