BEGIN:VCALENDAR
VERSION:2.0
PRODID:-//ChamberMaster//Event Calendar 2.0//EN
METHOD:PUBLISH
X-PUBLISHED-TTL:P3D
REFRESH-INTERVAL:P3D
CALSCALE:GREGORIAN
BEGIN:VEVENT
DTSTART:20151015T220000Z
DTEND:20151016T000000Z
X-MICROSOFT-CDO-ALLDAYEVENT:FALSE
SUMMARY:Revive After Five-Iowa Mutual Insurance
DESCRIPTION:Held on the third Thursday of every month. Members can meet\, exchange business cards\, and network in a relaxed and informal setting at a member business location.
X-ALT-DESC;FMTTYPE=text/html:<span style="color: rgb(128\, 128\, 128)\; line-height: 25px\; font-family: calibri\; font-size: medium\;">Held on the third Thursday of every month. Members can meet\, exchange business cards\, and network in a relaxed and informal setting at a member business location.&nbsp\;</span>
LOCATION:Iowa Mutual Insurance 509 9th St. DeWitt\, IA 52742 Please enter Iowa Mutual via the 5th Avenue door\, south of the alley\, you will see a welcome sign on the door.
UID:e.1774.127
SEQUENCE:3
DTSTAMP:20260421T013021Z
URL:https://business.dewittiowa.org/events/details/revive-after-five-iowa-mutual-insurance-10-15-2015-127
END:VEVENT

END:VCALENDAR
