BEGIN:VCALENDAR
VERSION:2.0
PRODID:-//ChamberMaster//Event Calendar 2.0//EN
METHOD:PUBLISH
X-PUBLISHED-TTL:P3D
REFRESH-INTERVAL:P3D
CALSCALE:GREGORIAN
BEGIN:VEVENT
DTSTART:20170119T230000Z
DTEND:20170120T010000Z
X-MICROSOFT-CDO-ALLDAYEVENT:FALSE
SUMMARY:Revive After Five - Jorgie's Bar & Grill
DESCRIPTION:Held on the third Thursday of every month. Members can meet\, exchange business cards\, and network in a relaxed and informal setting at a member business location.
X-ALT-DESC;FMTTYPE=text/html:<span style="color:#000000\;"><span style="line-height: 25px\; font-family: calibri\; font-size: medium\;">Held on the third Thursday of every month. Members can meet\, exchange business cards\, and network in a relaxed and informal setting at a member business location. &nbsp\;</span></span>
LOCATION:Jorgie's Bar & Grill - Upstairs Room 241 11th St. DeWitt\, IA 52742
UID:e.1774.1631
SEQUENCE:3
DTSTAMP:20260420T013604Z
URL:https://business.dewittiowa.org/events/details/revive-after-five-jorgie-s-bar-grill-1631
END:VEVENT

END:VCALENDAR
