BEGIN:VCALENDAR
VERSION:2.0
PRODID:-//ChamberMaster//Event Calendar 2.0//EN
METHOD:PUBLISH
X-PUBLISHED-TTL:P3D
REFRESH-INTERVAL:P3D
CALSCALE:GREGORIAN
BEGIN:VEVENT
DTSTART:20141120T230000Z
DTEND:20141121T010000Z
X-MICROSOFT-CDO-ALLDAYEVENT:FALSE
SUMMARY:Revive After Five-Kunau Implement Company
DESCRIPTION:Held on the third Thursday of every month. Members can meet\, exchange business cards\, and network in a relaxed and informal setting at a member business location. \n\nAt Kunau's Revive they will have great finger food and beverages. Also opportunities for Quad track 4wd ride and drive\, Kubota RTV ride and drive and one tractor set-up with GPS that will drive around the Dealership by itself.  Answer a simple 10 question trivia game about Kunau for door prizes.  Sounds like a fun night!! Make plans to attend the last Revive of 2014 !!
X-ALT-DESC;FMTTYPE=text/html:<strong><span style="font-size:14px\;"><span style="font-family:arial\;"><span style="line-height: 25px\;">Held on the third Thursday of every month. Members can meet\, exchange business cards\, and network in a relaxed and informal setting at a member business location.&nbsp\;</span><br />\nAt Kunau&#39\;s Revive they will have great finger food and beverages. Also opportunities for Quad track 4wd ride and drive\, Kubota RTV ride and drive and one tractor set-up with GPS that will drive around the Dealership by itself. &nbsp\;Answer a simple 10 question trivia game about Kunau for door prizes. &nbsp\;Sounds like a fun night!! Make plans to attend the last Revive of 2014 !!</span></span></strong>
LOCATION:Kunau Implement Company 2114 270th Ave. DeWitt\, IA
UID:e.1774.10
SEQUENCE:3
DTSTAMP:20260421T203633Z
URL:https://business.dewittiowa.org/events/details/revive-after-five-kunau-implement-company-11-20-2014-10
END:VEVENT

END:VCALENDAR
