BEGIN:VCALENDAR
VERSION:2.0
PRODID:-//ChamberMaster//Event Calendar 2.0//EN
METHOD:PUBLISH
X-PUBLISHED-TTL:P3D
REFRESH-INTERVAL:P3D
CALSCALE:GREGORIAN
BEGIN:VEVENT
DTSTART:20160121T230000Z
DTEND:20160122T010000Z
X-MICROSOFT-CDO-ALLDAYEVENT:FALSE
SUMMARY:Revive After Five-Murphy's Pub & Murphy's Vintage Picks
DESCRIPTION:We are excited to kick off the 2016 Revive After Five events! Held on the third Thursday of every month. Members can meet\, exchange business cards\, and network in a relaxed and informal environment. Try samples from Murphy's new menu and stick around for prizes at 6:00.  We hope you can join us!
X-ALT-DESC;FMTTYPE=text/html:<span style="color: rgb(128\, 128\, 128)\; line-height: 25px\; font-family: calibri\; font-size: medium\;">We are excited to kick off the 2016 Revive After Five events! Held on the third Thursday of every month. Members can meet\, exchange business cards\, and network in a relaxed and informal environment. Try samples from Murphy&#39\;s new menu and stick around for prizes at 6:00. &nbsp\;We hope you can join us!</span>
LOCATION:Murphy's Pub & Murphy's Vintage Picks 613 10th St. DeWitt\, IA 52742
UID:e.1774.1101
SEQUENCE:3
DTSTAMP:20260420T201530Z
URL:https://business.dewittiowa.org/events/details/revive-after-five-murphy-s-pub-murphy-s-vintage-picks-01-21-2016-1101
END:VEVENT

END:VCALENDAR
