BEGIN:VCALENDAR
VERSION:2.0
PRODID:-//ChamberMaster//Event Calendar 2.0//EN
METHOD:PUBLISH
X-PUBLISHED-TTL:P3D
REFRESH-INTERVAL:P3D
CALSCALE:GREGORIAN
BEGIN:VEVENT
DTSTART:20140116T230000Z
DTEND:20140117T010000Z
X-MICROSOFT-CDO-ALLDAYEVENT:FALSE
SUMMARY:Revive After Five-Operahouse Theatre
DESCRIPTION:Held on the third Thursday of every month\, members can meet\, exchange business cards\, and network in a relaxed and informal setting at a member business locations.
X-ALT-DESC;FMTTYPE=text/html:<span style="font-size: medium\;"><span style="font-family: calibri\;">Held on the third Thursday of every month\, members can meet\, exchange business cards\, and network in a relaxed and informal setting at a member business locations. </span></span><br />\n&nbsp\;
LOCATION:
UID:e.1774.2
SEQUENCE:3
DTSTAMP:20260422T111419Z
URL:https://business.dewittiowa.org/events/details/revive-after-five-operahouse-theatre-01-16-2014-2
END:VEVENT

END:VCALENDAR
