BEGIN:VCALENDAR
VERSION:2.0
PRODID:-//ChamberMaster//Event Calendar 2.0//EN
METHOD:PUBLISH
X-PUBLISHED-TTL:P3D
REFRESH-INTERVAL:P3D
CALSCALE:GREGORIAN
BEGIN:VEVENT
DTSTART:20150917T220000Z
DTEND:20150918T000000Z
X-MICROSOFT-CDO-ALLDAYEVENT:FALSE
SUMMARY:Revive After Five-Springbrook Country Club
DESCRIPTION:Held on the third Thursday of every month. Members can meet\, exchange business cards\, and network in a relaxed and informal setting at a member business location.
X-ALT-DESC;FMTTYPE=text/html:<span style="color: rgb(128\, 128\, 128)\; font-family: calibri\; font-size: medium\; line-height: 25px\;">Held on the third Thursday of every month. Members can meet\, exchange business cards\, and network in a relaxed and informal setting at a member business location.&nbsp\;</span>
LOCATION:Springbrook Country Club 2122 17th Avenue DeWitt\, IA 52742
UID:e.1774.198
SEQUENCE:3
DTSTAMP:20260421T030408Z
URL:https://business.dewittiowa.org/events/details/revive-after-five-springbrook-country-club-09-17-2015-198
END:VEVENT

END:VCALENDAR
