BEGIN:VCALENDAR
VERSION:2.0
PRODID:-//ChamberMaster//Event Calendar 2.0//EN
METHOD:PUBLISH
X-PUBLISHED-TTL:P3D
REFRESH-INTERVAL:P3D
CALSCALE:GREGORIAN
BEGIN:VEVENT
DTSTART:20160915T220000Z
DTEND:20160916T000000Z
X-MICROSOFT-CDO-ALLDAYEVENT:FALSE
SUMMARY:Revive After Five-THE CROSSROADS Inspired Living
DESCRIPTION:Held on the third Thursday of every month. Members can meet\, exchange business cards\, and network in a relaxed and informal setting at a member business location.
X-ALT-DESC;FMTTYPE=text/html:<span style="color: rgb(128\, 128\, 128)\; line-height: 25px\; font-family: calibri\; font-size: medium\;">Held on the third Thursday of every month. Members can meet\, exchange business cards\, and network in a relaxed and informal setting at a member business location.&nbsp\;</span>
LOCATION:THE CROSSROADS Inspired Living 602 10th St. DeWitt\, IA 52742
UID:e.1774.1106
SEQUENCE:3
DTSTAMP:20260420T074216Z
URL:https://business.dewittiowa.org/events/details/revive-after-five-the-crossroads-inspired-living-09-15-2016-1106
END:VEVENT

END:VCALENDAR
