BEGIN:VCALENDAR
VERSION:2.0
PRODID:-//ChamberMaster//Event Calendar 2.0//EN
METHOD:PUBLISH
X-PUBLISHED-TTL:P3D
REFRESH-INTERVAL:P3D
CALSCALE:GREGORIAN
BEGIN:VEVENT
DTSTART:20140220T230000Z
DTEND:20140221T010000Z
X-MICROSOFT-CDO-ALLDAYEVENT:FALSE
SUMMARY:Revive After Five-Whisk Away Cafe
DESCRIPTION:Held on the third Thursday of every month. Members can meet\, exchange business cards\, and network in a relaxed and informal setting at a member business location. \n\nClick here to edit...
X-ALT-DESC;FMTTYPE=text/html:<div style="color: gray\;"><span style="font-size: medium\;"><span style="font-family: calibri\;">Held on the third Thursday of every month. Members can meet\, exchange business cards\, and network in a relaxed and informal setting at a member business location. </span></span><br />\nClick here to edit...</div>\n
LOCATION:
UID:e.1774.3
SEQUENCE:3
DTSTAMP:20260422T094100Z
URL:https://business.dewittiowa.org/events/details/revive-after-five-whisk-away-cafe-02-20-2014-3
END:VEVENT

END:VCALENDAR
