BEGIN:VCALENDAR
VERSION:2.0
PRODID:-//ChamberMaster//Event Calendar 2.0//EN
METHOD:PUBLISH
X-PUBLISHED-TTL:P3D
REFRESH-INTERVAL:P3D
CALSCALE:GREGORIAN
BEGIN:VEVENT
DTSTART:20170211T000000Z
DTEND:20170211T040000Z
X-MICROSOFT-CDO-ALLDAYEVENT:FALSE
SUMMARY:Rhythm Makers Booster Club Trivia Night
DESCRIPTION:Trivia Night benefiting Rhythm Makers Booster Club for Rhythm Avenue. Supper starts at 6pm   $7 a plate with a choice of beef or pork for meat\, potatoes and a vegetable\, salads and a roll. Trivia starts at 7pm   A variety of snacks will be available for purchase with proceeds going to the Rhythm Makers or you can bring your own snacks. Drinks are available for purchase at Buzzy's. Tables cost $80 for up to 8 players.
X-ALT-DESC;FMTTYPE=text/html:<span style="font-size:14px\;"><span style="font-family:arial\;"><span style="color: rgb(0\, 0\, 0)\;">Trivia Night benefiting Rhythm Makers Booster Club for Rhythm </span><span style="color: rgb(0\, 0\, 0)\;">Avenue.&nbsp\;</span>Supper starts at </span></span><span style="font-size:14px\;"><span style="font-family:arial\;">6pm</span></span><span style="font-size:14px\;"><span style="font-family:arial\;"> &ndash\; $7 a plate with a choice of beef or pork for meat\, potatoes and a vegetable\, salads and a roll. Trivia starts at </span></span><span style="font-size:14px\;"><span style="font-family:arial\;">7pm</span></span><span style="font-size:14px\;"><span style="font-family:arial\;"> &ndash\; A variety of snacks will be available for purchase with proceeds going to the Rhythm Makers or you can bring your own snacks. Drinks are available for purchase at Buzzy&rsquo\;s. Tables cost $80 for up to 8 players.</span></span>
LOCATION:Buzzy's \, Welton\, IA
UID:e.1774.1856
SEQUENCE:3
DTSTAMP:20260420T013822Z
URL:https://business.dewittiowa.org/events/details/rhythm-makers-booster-club-trivia-night-1856
END:VEVENT

END:VCALENDAR
