BEGIN:VCALENDAR
VERSION:2.0
PRODID:-//ChamberMaster//Event Calendar 2.0//EN
METHOD:PUBLISH
X-PUBLISHED-TTL:P3D
REFRESH-INTERVAL:P3D
CALSCALE:GREGORIAN
BEGIN:VEVENT
DTSTART:20170410T223000Z
DTEND:20170411T003000Z
X-MICROSOFT-CDO-ALLDAYEVENT:FALSE
SUMMARY:Robotics Team Hall of Fame Outreach Event
DESCRIPTION:Come down to Hall of Fame to enjoy the buffet's pizza & wings! A portion of the proceeds from the buffet will go towards supporting Central's FIRST Tech Challenge Program\, and while you are here\, you can learn all about the STEM work in our community that is currently raising the next generation of scientists\, programmers\, and engineers through programs like FTC\, FLL\, and Jr. FLL!
X-ALT-DESC;FMTTYPE=text/html:Come down to Hall of Fame to enjoy the buffet&#39\;s pizza &amp\; wings! A portion of the proceeds from the buffet will go towards supporting Central&#39\;s FIRST Tech Challenge Program\, and while you are here\, you can learn all about the STEM work in our community that is currently raising the next generation of scientists\, programmers\, and engineers through programs like FTC\, FLL\, and Jr. FLL!
LOCATION:Hall of Fame Pizza & Wings
UID:e.1774.1917
SEQUENCE:3
DTSTAMP:20260419T221808Z
URL:https://business.dewittiowa.org/events/details/robotics-team-hall-of-fame-outreach-event-1917
END:VEVENT

END:VCALENDAR
