BEGIN:VCALENDAR
VERSION:2.0
PRODID:-//ChamberMaster//Event Calendar 2.0//EN
METHOD:PUBLISH
X-PUBLISHED-TTL:P3D
REFRESH-INTERVAL:P3D
CALSCALE:GREGORIAN
BEGIN:VEVENT
DTSTART:20150321T144000Z
DTEND:20150321T173000Z
X-MICROSOFT-CDO-ALLDAYEVENT:FALSE
SUMMARY:Ron Fischer's "BeeKeeper in the Kitchen"
DESCRIPTION:"Bee Keeper in the Kitchen"\n\nA Fascinating & Informative Program by Well-Known Beekeeper\, Ron Fischer.\n\n\n\nSample Different Varieties of Honey\n\nUsing Locally Sourced Honey in Award Winning Recipes\n\nExperience a Honey-Inspired Luncheon following Presentation\n\nPurchase Ron's Honey HERE at THE CROSSROADS Inspired LIving\n\n\n\nPre-Register SOON at 563-659-8897 ~ Limited Seating!\n\n\n\nSee www.crossroadsofdewitt.com for Details!
X-ALT-DESC;FMTTYPE=text/html:<div style="text-align: center\;"><span style="color:rgb(218\, 165\, 32)"><big><strong>&quot\;Bee Keeper in the Kitchen&quot\;</strong></big><br />\n<big><strong><small><span style="background-color:rgb(0\, 0\, 0)">A Fascinating &amp\; Informative Program by Well-Known Beekeeper\, Ron Fischer.</span></small></strong></big></span><br />\n<br />\n<big><strong><font color="#daa520">Sample Different Varieties of Honey<br />\nUsing Locally Sourced Honey in Award Winning Recipes<br />\nExperience a Honey-Inspired Luncheon following Presentation<br />\nPurchase Ron&#39\;s Honey&nbsp\;HERE at THE CROSSROADS Inspired LIving</font></strong></big><br />\n<br />\n<big><strong><font style="background-color: rgb(0\, 0\, 0)\;"><span style="color:rgb(218\, 165\, 32)"><span style="background-color:rgb(0\, 0\, 0)">Pre-Register SOON at 563-659-8897 ~ Limited Seating!</span></span></font><br />\n<br />\nSee <a href="http://www.crossroadsofdewitt.com">www.crossroadsofdewitt.com</a> for Details!</strong></big><br />\n<br />\n&nbsp\;</div>\n
LOCATION:The Garden Caf @ THE CROSSROADS Inspired Living Downtown DeWitt * 6th Avenue & 10th Street
UID:e.1774.330
SEQUENCE:3
DTSTAMP:20260421T142427Z
URL:https://business.dewittiowa.org/events/details/ron-fischer-s-beekeeper-in-the-kitchen-03-21-2015-330
END:VEVENT

END:VCALENDAR
