BEGIN:VCALENDAR
VERSION:2.0
PRODID:-//ChamberMaster//Event Calendar 2.0//EN
METHOD:PUBLISH
X-PUBLISHED-TTL:P3D
REFRESH-INTERVAL:P3D
CALSCALE:GREGORIAN
BEGIN:VEVENT
DTSTART:20151219T000000Z
DTEND:20151219T040000Z
X-MICROSOFT-CDO-ALLDAYEVENT:FALSE
SUMMARY:Saber Booster's Cake Auction & Ed Foundation Sloppy Joe Supper
DESCRIPTION:All students\, athletes\, clubs & fans Show Your Saber Spirit by decorating a cake to be auctioned off between the girls and boys basketball games! Cash prizes awarded to the top 3 cakes in the student division.  All other cakes will go to the silent auction.  All proceeds support the Middle School and High School athletic programs.\n\nThis Year's Theme is "Show Your Saber Spirit"  \n\nTo participate:  Call the High School (659 0716)  \n\nCentral Education Foundation will be serving Sloppy Joes.  \n\nBoosters will be serving cake & ice cream. \n\nCome for supper\, buy a cake\, and support The Sabers!
X-ALT-DESC;FMTTYPE=text/html:<span style="font-size:14px"><span style="font-family:times new roman">All students\, athletes\, clubs &amp\; fans<strong><span style="color:#800080"> Show Your Saber Spirit</span></strong> by decorating a cake to be auctioned off between the girls and boys basketball games! Cash prizes awarded to the top 3 cakes in the student division. &nbsp\;All other cakes will go to the silent auction. &nbsp\;All proceeds support the Middle School and High School athletic programs.<br />\nThis Year&#39\;s Theme is <strong><span style="color:#800080">&quot\;Show Your Saber Spirit&quot\;</span> &nbsp\;</strong><br />\nTo participate: &nbsp\;Call the High School (659 0716) &nbsp\;<br />\n<span style="color:black">Central Education Foundation&nbsp\;</span><span style="color:black">will be serving&nbsp\;</span><span style="color:black">Sloppy Joes.&nbsp\; </span><br />\n<span style="color:black">Boosters will be serving&nbsp\;cake &amp\; ice cream.&nbsp\;</span><br />\nCome for supper\, buy a cake\, and support The Sabers!</span></span><br />\n<br />\n<br />\n&nbsp\;
LOCATION:Central DeWitt High School
UID:e.1774.1160
SEQUENCE:3
DTSTAMP:20260420T233614Z
URL:https://business.dewittiowa.org/events/details/saber-booster-s-cake-auction-ed-foundation-sloppy-joe-supper-12-18-2015-1160
END:VEVENT

END:VCALENDAR
