BEGIN:VCALENDAR
VERSION:2.0
PRODID:-//ChamberMaster//Event Calendar 2.0//EN
METHOD:PUBLISH
X-PUBLISHED-TTL:P3D
REFRESH-INTERVAL:P3D
CALSCALE:GREGORIAN
BEGIN:VEVENT
DTSTART:20140823T130000Z
DTEND:20140823T140000Z
X-MICROSOFT-CDO-ALLDAYEVENT:FALSE
SUMMARY:Saber Bowl Dash
DESCRIPTION:The 6th Annual Saber Bowl Dash is a 5k race. Food and refreshments offered to all runners after the race. T-shirts are included\, but not promised to race day entries.
X-ALT-DESC;FMTTYPE=text/html:The 6th Annual Saber Bowl Dash is a 5k race. Food and refreshments offered to all runners after the race. T-shirts are included\, but not promised to race day entries.
LOCATION:Central High School 519 East 11th Street DeWitt\, IA 52742
UID:e.1774.129
SEQUENCE:3
DTSTAMP:20260421T234058Z
URL:https://business.dewittiowa.org/events/details/saber-bowl-dash-08-23-2014-129
END:VEVENT

END:VCALENDAR
