BEGIN:VCALENDAR
VERSION:2.0
PRODID:-//ChamberMaster//Event Calendar 2.0//EN
METHOD:PUBLISH
X-PUBLISHED-TTL:P3D
REFRESH-INTERVAL:P3D
CALSCALE:GREGORIAN
BEGIN:VEVENT
DTSTART;VALUE=DATE:20150718
DTEND;VALUE=DATE:20150720
TRANSP:TRANSPARENT
X-MICROSOFT-CDO-ALLDAYEVENT:TRUE
SUMMARY:Saber Wrestling Bean Bag Tournament
DESCRIPTION:$40.00 per team for enter into the contest. All precedes go to the SABER Wrestlers. We will be having LIVE music (A.D.D.) after the tournament is over for our 2nd annual STREET DANCE. You can pre-registar at JORGIES
X-ALT-DESC;FMTTYPE=text/html:$40.00 per team for enter into the contest. All precedes go to the SABER Wrestlers. We will be having LIVE music (A.D.D.) after the tournament is over for our 2nd annual STREET DANCE. You can pre-registar at JORGIES
LOCATION:Jorgies
UID:e.1774.897
SEQUENCE:3
DTSTAMP:20260421T061851Z
URL:https://business.dewittiowa.org/events/details/saber-wrestling-bean-bag-tournament-07-18-2015-897
END:VEVENT

END:VCALENDAR
