BEGIN:VCALENDAR
VERSION:2.0
PRODID:-//ChamberMaster//Event Calendar 2.0//EN
METHOD:PUBLISH
X-PUBLISHED-TTL:P3D
REFRESH-INTERVAL:P3D
CALSCALE:GREGORIAN
BEGIN:VEVENT
DTSTART:20140418T220000Z
DTEND:20140419T003000Z
X-MICROSOFT-CDO-ALLDAYEVENT:FALSE
SUMMARY:Saint Joseph's Lenten Fish Fry Fridays!
DESCRIPTION:All you care to eat (dine in only)\n\nwhole catfish & Pollack fillets\n\n or a single serving of Boiled shrimp!\n\n\n\nProceeds benefit:\n\nKnights of Columbus\n\nSaint Joseph Home & School\n\nSaint Joseph Youth Group
X-ALT-DESC;FMTTYPE=text/html:All you care to eat (dine in only)<br />\nwhole catfish &amp\; Pollack fillets<br />\n&#8203\;or a single serving of Boiled shrimp!<br />\n<br />\nProceeds benefit:<br />\nKnights of Columbus<br />\nSaint Joseph Home &amp\; School<br />\nSaint Joseph Youth Group<br />\n&nbsp\;
LOCATION:Knights of Columbus Hall 613 10th St.\, DeWitt
UID:e.1774.28
SEQUENCE:3
DTSTAMP:20260422T055759Z
URL:https://business.dewittiowa.org/events/details/saint-joseph-s-lenten-fish-fry-fridays-04-18-2014-28
END:VEVENT

END:VCALENDAR
